BEGIN:VCALENDAR
VERSION:2.0
PRODID:-//Niederwerth.de - ECPv6.15.20//NONSGML v1.0//EN
CALSCALE:GREGORIAN
METHOD:PUBLISH
X-WR-CALNAME:Niederwerth.de
X-ORIGINAL-URL:https://www.niederwerth.de
X-WR-CALDESC:Veranstaltungen für Niederwerth.de
REFRESH-INTERVAL;VALUE=DURATION:PT1H
X-Robots-Tag:noindex
X-PUBLISHED-TTL:PT1H
BEGIN:VTIMEZONE
TZID:Europe/Paris
BEGIN:DAYLIGHT
TZOFFSETFROM:+0100
TZOFFSETTO:+0200
TZNAME:CEST
DTSTART:20250330T010000
END:DAYLIGHT
BEGIN:STANDARD
TZOFFSETFROM:+0200
TZOFFSETTO:+0100
TZNAME:CET
DTSTART:20251026T010000
END:STANDARD
BEGIN:DAYLIGHT
TZOFFSETFROM:+0100
TZOFFSETTO:+0200
TZNAME:CEST
DTSTART:20260329T010000
END:DAYLIGHT
BEGIN:STANDARD
TZOFFSETFROM:+0200
TZOFFSETTO:+0100
TZNAME:CET
DTSTART:20261025T010000
END:STANDARD
BEGIN:DAYLIGHT
TZOFFSETFROM:+0100
TZOFFSETTO:+0200
TZNAME:CEST
DTSTART:20270328T010000
END:DAYLIGHT
BEGIN:STANDARD
TZOFFSETFROM:+0200
TZOFFSETTO:+0100
TZNAME:CET
DTSTART:20271031T010000
END:STANDARD
END:VTIMEZONE
BEGIN:VEVENT
DTSTART;VALUE=DATE:20260206
DTEND;VALUE=DATE:20260207
DTSTAMP:20260422T124408
CREATED:20251217T100614Z
LAST-MODIFIED:20251217T100848Z
UID:3150-1770336000-1770422399@www.niederwerth.de
SUMMARY:7. Sitzung Karnevalsverein
DESCRIPTION:
URL:https://www.niederwerth.de/veranstaltung/7-sitzung-karnevalsverein-2/
END:VEVENT
BEGIN:VEVENT
DTSTART;VALUE=DATE:20260207
DTEND;VALUE=DATE:20260208
DTSTAMP:20260422T124408
CREATED:20251217T100644Z
LAST-MODIFIED:20251217T100832Z
UID:3152-1770422400-1770508799@www.niederwerth.de
SUMMARY:8. Sitzung Karnevalsverein
DESCRIPTION:
URL:https://www.niederwerth.de/veranstaltung/8-sitzung-karnevalsverein-2/
END:VEVENT
BEGIN:VEVENT
DTSTART;VALUE=DATE:20260210
DTEND;VALUE=DATE:20260211
DTSTAMP:20260422T124408
CREATED:20251217T100720Z
LAST-MODIFIED:20251217T100720Z
UID:3154-1770681600-1770767999@www.niederwerth.de
SUMMARY:Gemeinderatsitzung
DESCRIPTION:
URL:https://www.niederwerth.de/veranstaltung/gemeinderatsitzung-8/
ORGANIZER;CN="Ortsgemeinde Niederwerth":MAILTO:info@niederwerth.de
END:VEVENT
BEGIN:VEVENT
DTSTART;VALUE=DATE:20260215
DTEND;VALUE=DATE:20260216
DTSTAMP:20260422T124408
CREATED:20251217T100759Z
LAST-MODIFIED:20251217T100759Z
UID:3156-1771113600-1771199999@www.niederwerth.de
SUMMARY:Karneval Sonntag
DESCRIPTION:
URL:https://www.niederwerth.de/veranstaltung/karneval-sonntag/
END:VEVENT
BEGIN:VEVENT
DTSTART;VALUE=DATE:20260228
DTEND;VALUE=DATE:20260301
DTSTAMP:20260422T124408
CREATED:20251217T101159Z
LAST-MODIFIED:20251217T101159Z
UID:3160-1772236800-1772323199@www.niederwerth.de
SUMMARY:Winterwanderung Schützenverein
DESCRIPTION:
URL:https://www.niederwerth.de/veranstaltung/winterwanderung-schuetzenverein-2/
ORGANIZER;CN="St. Sebastianus Sch%C3%BCtzenbruderschaft Niederwerth 1859 e.V.":MAILTO:werther_schuetzen@aol.de
END:VEVENT
END:VCALENDAR