BEGIN:VCALENDAR
VERSION:2.0
PRODID:-//Niederwerth.de - ECPv6.15.20//NONSGML v1.0//EN
CALSCALE:GREGORIAN
METHOD:PUBLISH
X-WR-CALNAME:Niederwerth.de
X-ORIGINAL-URL:https://www.niederwerth.de
X-WR-CALDESC:Veranstaltungen für Niederwerth.de
REFRESH-INTERVAL;VALUE=DURATION:PT1H
X-Robots-Tag:noindex
X-PUBLISHED-TTL:PT1H
BEGIN:VTIMEZONE
TZID:Europe/Paris
BEGIN:DAYLIGHT
TZOFFSETFROM:+0100
TZOFFSETTO:+0200
TZNAME:CEST
DTSTART:20240331T010000
END:DAYLIGHT
BEGIN:STANDARD
TZOFFSETFROM:+0200
TZOFFSETTO:+0100
TZNAME:CET
DTSTART:20241027T010000
END:STANDARD
BEGIN:DAYLIGHT
TZOFFSETFROM:+0100
TZOFFSETTO:+0200
TZNAME:CEST
DTSTART:20250330T010000
END:DAYLIGHT
BEGIN:STANDARD
TZOFFSETFROM:+0200
TZOFFSETTO:+0100
TZNAME:CET
DTSTART:20251026T010000
END:STANDARD
BEGIN:DAYLIGHT
TZOFFSETFROM:+0100
TZOFFSETTO:+0200
TZNAME:CEST
DTSTART:20260329T010000
END:DAYLIGHT
BEGIN:STANDARD
TZOFFSETFROM:+0200
TZOFFSETTO:+0100
TZNAME:CET
DTSTART:20261025T010000
END:STANDARD
END:VTIMEZONE
BEGIN:VEVENT
DTSTART;VALUE=DATE:20250823
DTEND;VALUE=DATE:20250824
DTSTAMP:20260424T174903
CREATED:20241230T150931Z
LAST-MODIFIED:20241230T150931Z
UID:2863-1755907200-1755993599@www.niederwerth.de
SUMMARY:Inselkinderfest Kindergarten
DESCRIPTION:
URL:https://www.niederwerth.de/veranstaltung/inselkinderfest-kindergarten/
LOCATION:Schulhof Niederwerth\, Schützenstrasse 32\, Niederwerth\, 56179\, Germany
CATEGORIES:Öffentlich
ORGANIZER;CN="F%C3%B6rderverein Kindergarten e.V.":MAILTO:foerdervereinkiga.niederwerth@web.de
END:VEVENT
END:VCALENDAR