BEGIN:VCALENDAR
VERSION:2.0
PRODID:-//Niederwerth.de - ECPv6.15.20//NONSGML v1.0//EN
CALSCALE:GREGORIAN
METHOD:PUBLISH
X-WR-CALNAME:Niederwerth.de
X-ORIGINAL-URL:https://www.niederwerth.de
X-WR-CALDESC:Veranstaltungen für Niederwerth.de
REFRESH-INTERVAL;VALUE=DURATION:PT1H
X-Robots-Tag:noindex
X-PUBLISHED-TTL:PT1H
BEGIN:VTIMEZONE
TZID:Europe/Paris
BEGIN:DAYLIGHT
TZOFFSETFROM:+0100
TZOFFSETTO:+0200
TZNAME:CEST
DTSTART:20250330T010000
END:DAYLIGHT
BEGIN:STANDARD
TZOFFSETFROM:+0200
TZOFFSETTO:+0100
TZNAME:CET
DTSTART:20251026T010000
END:STANDARD
BEGIN:DAYLIGHT
TZOFFSETFROM:+0100
TZOFFSETTO:+0200
TZNAME:CEST
DTSTART:20260329T010000
END:DAYLIGHT
BEGIN:STANDARD
TZOFFSETFROM:+0200
TZOFFSETTO:+0100
TZNAME:CET
DTSTART:20261025T010000
END:STANDARD
BEGIN:DAYLIGHT
TZOFFSETFROM:+0100
TZOFFSETTO:+0200
TZNAME:CEST
DTSTART:20270328T010000
END:DAYLIGHT
BEGIN:STANDARD
TZOFFSETFROM:+0200
TZOFFSETTO:+0100
TZNAME:CET
DTSTART:20271031T010000
END:STANDARD
END:VTIMEZONE
BEGIN:VEVENT
DTSTART;VALUE=DATE:20260424
DTEND;VALUE=DATE:20260425
DTSTAMP:20260420T051828
CREATED:20251217T101806Z
LAST-MODIFIED:20251217T101806Z
UID:3186-1776988800-1777075199@www.niederwerth.de
SUMMARY:Mitgliederversammlung Schützenverein
DESCRIPTION:
URL:https://www.niederwerth.de/veranstaltung/mitgliederversammlung-schuetzenverein-2/
ORGANIZER;CN="St. Sebastianus Sch%C3%BCtzenbruderschaft Niederwerth 1859 e.V.":MAILTO:werther_schuetzen@aol.de
END:VEVENT
BEGIN:VEVENT
DTSTART;VALUE=DATE:20260425
DTEND;VALUE=DATE:20260428
DTSTAMP:20260420T051828
CREATED:20251217T101846Z
LAST-MODIFIED:20260227T140436Z
UID:3188-1777075200-1777334399@www.niederwerth.de
SUMMARY:Werther Kirmes
DESCRIPTION:
URL:https://www.niederwerth.de/veranstaltung/werther-kirmes/
LOCATION:Kirmesplatz\, Rheinstraße 32\, Niederwerth\, 56179\, Germany
END:VEVENT
BEGIN:VEVENT
DTSTART;VALUE=DATE:20260509
DTEND;VALUE=DATE:20260510
DTSTAMP:20260420T051828
CREATED:20251217T101916Z
LAST-MODIFIED:20251217T101916Z
UID:3190-1778284800-1778371199@www.niederwerth.de
SUMMARY:Bezirksjungschützentag
DESCRIPTION:
URL:https://www.niederwerth.de/veranstaltung/bezirksjungschuetzentag/
ORGANIZER;CN="St. Sebastianus Sch%C3%BCtzenbruderschaft Niederwerth 1859 e.V.":MAILTO:werther_schuetzen@aol.de
END:VEVENT
BEGIN:VEVENT
DTSTART;VALUE=DATE:20260512
DTEND;VALUE=DATE:20260513
DTSTAMP:20260420T051828
CREATED:20251217T101946Z
LAST-MODIFIED:20251217T101946Z
UID:3192-1778544000-1778630399@www.niederwerth.de
SUMMARY:Gemeinderatsitzung
DESCRIPTION:
URL:https://www.niederwerth.de/veranstaltung/gemeinderatsitzung-10/
ORGANIZER;CN="Ortsgemeinde Niederwerth":MAILTO:info@niederwerth.de
END:VEVENT
BEGIN:VEVENT
DTSTART;VALUE=DATE:20260514
DTEND;VALUE=DATE:20260515
DTSTAMP:20260420T051828
CREATED:20251217T102026Z
LAST-MODIFIED:20251217T102026Z
UID:3194-1778716800-1778803199@www.niederwerth.de
SUMMARY:Dorfturnier
DESCRIPTION:
URL:https://www.niederwerth.de/veranstaltung/dorfturnier/
LOCATION:Sportplatz Niederwerth\, Niederwerth\, 56179
ORGANIZER;CN="Sportverein 1936 Niederwerth e.V.":MAILTO:vorsitzender@sv-niederwerth.de
END:VEVENT
BEGIN:VEVENT
DTSTART;VALUE=DATE:20260609
DTEND;VALUE=DATE:20260610
DTSTAMP:20260420T051828
CREATED:20251217T102058Z
LAST-MODIFIED:20251217T102110Z
UID:3196-1780963200-1781049599@www.niederwerth.de
SUMMARY:Blutspende
DESCRIPTION:
URL:https://www.niederwerth.de/veranstaltung/blutspende-5/
ORGANIZER;CN="DRK Ortsverein Niederwerth e.V.":MAILTO:info@drk-niederwerth.de
END:VEVENT
BEGIN:VEVENT
DTSTART;VALUE=DATE:20260612
DTEND;VALUE=DATE:20260613
DTSTAMP:20260420T051828
CREATED:20251217T102138Z
LAST-MODIFIED:20251217T102138Z
UID:3198-1781222400-1781308799@www.niederwerth.de
SUMMARY:Justizturnier
DESCRIPTION:
URL:https://www.niederwerth.de/veranstaltung/justizturnier/
ORGANIZER;CN="Sportverein 1936 Niederwerth e.V.":MAILTO:vorsitzender@sv-niederwerth.de
END:VEVENT
BEGIN:VEVENT
DTSTART;VALUE=DATE:20260616
DTEND;VALUE=DATE:20260617
DTSTAMP:20260420T051828
CREATED:20251217T102206Z
LAST-MODIFIED:20251217T102206Z
UID:3200-1781568000-1781654399@www.niederwerth.de
SUMMARY:Gemeinderatsitzung
DESCRIPTION:
URL:https://www.niederwerth.de/veranstaltung/gemeinderatsitzung-11/
ORGANIZER;CN="Ortsgemeinde Niederwerth":MAILTO:info@niederwerth.de
END:VEVENT
BEGIN:VEVENT
DTSTART;VALUE=DATE:20260620
DTEND;VALUE=DATE:20260621
DTSTAMP:20260420T051828
CREATED:20251217T102258Z
LAST-MODIFIED:20251217T102258Z
UID:3202-1781913600-1781999999@www.niederwerth.de
SUMMARY:Inselkinderfest
DESCRIPTION:
URL:https://www.niederwerth.de/veranstaltung/inselkinderfest/
ORGANIZER;CN="F%C3%B6rderverein Kindergarten e.V.":MAILTO:foerdervereinkiga.niederwerth@web.de
END:VEVENT
BEGIN:VEVENT
DTSTART;VALUE=DATE:20260724
DTEND;VALUE=DATE:20260727
DTSTAMP:20260420T051828
CREATED:20251217T102335Z
LAST-MODIFIED:20251217T102335Z
UID:3204-1784851200-1785110399@www.niederwerth.de
SUMMARY:Schützenfest
DESCRIPTION:
URL:https://www.niederwerth.de/veranstaltung/schuetzenfest/
LOCATION:Schützenplatz Niederwerth\, Am Schützenplatz 2\, Niederwerth\, 56179\, Germany
ORGANIZER;CN="St. Sebastianus Sch%C3%BCtzenbruderschaft Niederwerth 1859 e.V.":MAILTO:werther_schuetzen@aol.de
END:VEVENT
BEGIN:VEVENT
DTSTART;VALUE=DATE:20260806
DTEND;VALUE=DATE:20260810
DTSTAMP:20260420T051828
CREATED:20251217T102404Z
LAST-MODIFIED:20251217T102404Z
UID:3206-1785974400-1786319999@www.niederwerth.de
SUMMARY:Besuch aus Frankreich
DESCRIPTION:
URL:https://www.niederwerth.de/veranstaltung/besuch-aus-frankreich/
END:VEVENT
BEGIN:VEVENT
DTSTART;VALUE=DATE:20260821
DTEND;VALUE=DATE:20260824
DTSTAMP:20260420T051828
CREATED:20251217T102443Z
LAST-MODIFIED:20251217T102443Z
UID:3208-1787270400-1787529599@www.niederwerth.de
SUMMARY:Vereinsausflug Karnevalsverein
DESCRIPTION:
URL:https://www.niederwerth.de/veranstaltung/vereinsausflug-karnevalsverein/
END:VEVENT
BEGIN:VEVENT
DTSTART;VALUE=DATE:20260822
DTEND;VALUE=DATE:20260823
DTSTAMP:20260420T051828
CREATED:20251217T102515Z
LAST-MODIFIED:20251217T102515Z
UID:3210-1787356800-1787443199@www.niederwerth.de
SUMMARY:Grillfest Musikverein
DESCRIPTION:
URL:https://www.niederwerth.de/veranstaltung/grillfest-musikverein-3/
END:VEVENT
BEGIN:VEVENT
DTSTART;VALUE=DATE:20260831
DTEND;VALUE=DATE:20260901
DTSTAMP:20260420T051828
CREATED:20251217T102551Z
LAST-MODIFIED:20260214T093153Z
UID:3212-1788134400-1788220799@www.niederwerth.de
SUMMARY:Einwohnerversammlung
DESCRIPTION:
URL:https://www.niederwerth.de/veranstaltung/einwohnerversammlung-2/
ORGANIZER;CN="Ortsgemeinde Niederwerth":MAILTO:info@niederwerth.de
END:VEVENT
BEGIN:VEVENT
DTSTART;VALUE=DATE:20260905
DTEND;VALUE=DATE:20260906
DTSTAMP:20260420T051828
CREATED:20251217T102623Z
LAST-MODIFIED:20251217T102623Z
UID:3214-1788566400-1788652799@www.niederwerth.de
SUMMARY:Jubiläumsfeier 90 Jahre SVN
DESCRIPTION:
URL:https://www.niederwerth.de/veranstaltung/jubilaeumsfeier-90-jahre-svn/
ORGANIZER;CN="Sportverein 1936 Niederwerth e.V.":MAILTO:vorsitzender@sv-niederwerth.de
END:VEVENT
BEGIN:VEVENT
DTSTART;VALUE=DATE:20260908
DTEND;VALUE=DATE:20260909
DTSTAMP:20260420T051828
CREATED:20251217T102655Z
LAST-MODIFIED:20251217T102655Z
UID:3216-1788825600-1788911999@www.niederwerth.de
SUMMARY:Gemeinderatsitzung
DESCRIPTION:
URL:https://www.niederwerth.de/veranstaltung/gemeinderatsitzung-12/
ORGANIZER;CN="Ortsgemeinde Niederwerth":MAILTO:info@niederwerth.de
END:VEVENT
BEGIN:VEVENT
DTSTART;VALUE=DATE:20260919
DTEND;VALUE=DATE:20260920
DTSTAMP:20260420T051828
CREATED:20251217T102721Z
LAST-MODIFIED:20251217T102721Z
UID:3218-1789776000-1789862399@www.niederwerth.de
SUMMARY:Oktoberfest
DESCRIPTION:
URL:https://www.niederwerth.de/veranstaltung/oktoberfest/
ORGANIZER;CN="St. Sebastianus Sch%C3%BCtzenbruderschaft Niederwerth 1859 e.V.":MAILTO:werther_schuetzen@aol.de
END:VEVENT
BEGIN:VEVENT
DTSTART;VALUE=DATE:20260920
DTEND;VALUE=DATE:20260921
DTSTAMP:20260420T051828
CREATED:20251217T102759Z
LAST-MODIFIED:20251217T102759Z
UID:3220-1789862400-1789948799@www.niederwerth.de
SUMMARY:Dorfflohmarkt
DESCRIPTION:
URL:https://www.niederwerth.de/veranstaltung/dorfflohmarkt/
ORGANIZER;CN="F%C3%B6rderverein Kindergarten e.V.":MAILTO:foerdervereinkiga.niederwerth@web.de
END:VEVENT
BEGIN:VEVENT
DTSTART;VALUE=DATE:20260922
DTEND;VALUE=DATE:20260923
DTSTAMP:20260420T051828
CREATED:20251217T102825Z
LAST-MODIFIED:20251217T102825Z
UID:3222-1790035200-1790121599@www.niederwerth.de
SUMMARY:Blutspende
DESCRIPTION:
URL:https://www.niederwerth.de/veranstaltung/blutspende-6/
ORGANIZER;CN="DRK Ortsverein Niederwerth e.V.":MAILTO:info@drk-niederwerth.de
END:VEVENT
BEGIN:VEVENT
DTSTART;VALUE=DATE:20260926
DTEND;VALUE=DATE:20260927
DTSTAMP:20260420T051828
CREATED:20251217T102906Z
LAST-MODIFIED:20251217T102906Z
UID:3224-1790380800-1790467199@www.niederwerth.de
SUMMARY:Mitgliederausflug Kirmesgesellschaft
DESCRIPTION:
URL:https://www.niederwerth.de/veranstaltung/mitgliederausflug-kirmesgesellschaft/
END:VEVENT
BEGIN:VEVENT
DTSTART;VALUE=DATE:20261023
DTEND;VALUE=DATE:20261024
DTSTAMP:20260420T051828
CREATED:20251217T102945Z
LAST-MODIFIED:20251217T102945Z
UID:3226-1792713600-1792799999@www.niederwerth.de
SUMMARY:Abschlussübung Feuerwehr
DESCRIPTION:
URL:https://www.niederwerth.de/veranstaltung/abschlussuebung-feuerwehr/
ORGANIZER;CN="Feuerwehr Niederwerth":MAILTO:info-lz-niederwerth@feuerwehr-vg-vallendar.de
END:VEVENT
BEGIN:VEVENT
DTSTART;VALUE=DATE:20261024
DTEND;VALUE=DATE:20261025
DTSTAMP:20260420T051828
CREATED:20251217T103010Z
LAST-MODIFIED:20251217T103010Z
UID:3228-1792800000-1792886399@www.niederwerth.de
SUMMARY:Königsball
DESCRIPTION:
URL:https://www.niederwerth.de/veranstaltung/koenigsball-2/
ORGANIZER;CN="St. Sebastianus Sch%C3%BCtzenbruderschaft Niederwerth 1859 e.V.":MAILTO:werther_schuetzen@aol.de
END:VEVENT
BEGIN:VEVENT
DTSTART;VALUE=DATE:20261107
DTEND;VALUE=DATE:20261108
DTSTAMP:20260420T051828
CREATED:20251217T103037Z
LAST-MODIFIED:20251217T103037Z
UID:3230-1794009600-1794095999@www.niederwerth.de
SUMMARY:Familienabend Feuerwehr
DESCRIPTION:
URL:https://www.niederwerth.de/veranstaltung/familienabend-feuerwehr-3/
ORGANIZER;CN="Feuerwehr Niederwerth":MAILTO:info-lz-niederwerth@feuerwehr-vg-vallendar.de
END:VEVENT
BEGIN:VEVENT
DTSTART;VALUE=DATE:20261108
DTEND;VALUE=DATE:20261109
DTSTAMP:20260420T051828
CREATED:20251217T103119Z
LAST-MODIFIED:20251217T103119Z
UID:3232-1794096000-1794182399@www.niederwerth.de
SUMMARY:Frühschoppen Feuerwehr
DESCRIPTION:
URL:https://www.niederwerth.de/veranstaltung/fruehschoppen-feuerwehr-2/
ORGANIZER;CN="Feuerwehr Niederwerth":MAILTO:info-lz-niederwerth@feuerwehr-vg-vallendar.de
END:VEVENT
BEGIN:VEVENT
DTSTART;VALUE=DATE:20261109
DTEND;VALUE=DATE:20261110
DTSTAMP:20260420T051828
CREATED:20251217T103200Z
LAST-MODIFIED:20251217T103200Z
UID:3234-1794182400-1794268799@www.niederwerth.de
SUMMARY:St. Martin
DESCRIPTION:
URL:https://www.niederwerth.de/veranstaltung/st-martin-2/
LOCATION:Schützenplatz Niederwerth\, Am Schützenplatz 2\, Niederwerth\, 56179\, Germany
ORGANIZER;CN="Ortsgemeinde Niederwerth":MAILTO:info@niederwerth.de
END:VEVENT
BEGIN:VEVENT
DTSTART;VALUE=DATE:20261110
DTEND;VALUE=DATE:20261111
DTSTAMP:20260420T051828
CREATED:20251217T103234Z
LAST-MODIFIED:20251217T103234Z
UID:3236-1794268800-1794355199@www.niederwerth.de
SUMMARY:Gemeinderatsitzung
DESCRIPTION:
URL:https://www.niederwerth.de/veranstaltung/gemeinderatsitzung-13/
ORGANIZER;CN="Ortsgemeinde Niederwerth":MAILTO:info@niederwerth.de
END:VEVENT
BEGIN:VEVENT
DTSTART;VALUE=DATE:20261113
DTEND;VALUE=DATE:20261114
DTSTAMP:20260420T051828
CREATED:20251217T103316Z
LAST-MODIFIED:20251217T103316Z
UID:3238-1794528000-1794614399@www.niederwerth.de
SUMMARY:Jahreshauptversammlung Kirmesgesellschaft
DESCRIPTION:
URL:https://www.niederwerth.de/veranstaltung/jahreshauptversammlung-kirmesgesellschaft-2/
END:VEVENT
BEGIN:VEVENT
DTSTART;VALUE=DATE:20261120
DTEND;VALUE=DATE:20261121
DTSTAMP:20260420T051828
CREATED:20251217T103341Z
LAST-MODIFIED:20251217T103341Z
UID:3240-1795132800-1795219199@www.niederwerth.de
SUMMARY:Jahreshauptversammlung Schützenverein
DESCRIPTION:
URL:https://www.niederwerth.de/veranstaltung/jahreshauptversammlung-schuetzenverein-2/
ORGANIZER;CN="St. Sebastianus Sch%C3%BCtzenbruderschaft Niederwerth 1859 e.V.":MAILTO:werther_schuetzen@aol.de
END:VEVENT
BEGIN:VEVENT
DTSTART;VALUE=DATE:20261121
DTEND;VALUE=DATE:20261122
DTSTAMP:20260420T051828
CREATED:20251217T103406Z
LAST-MODIFIED:20251217T103406Z
UID:3242-1795219200-1795305599@www.niederwerth.de
SUMMARY:Weihnachtsmarkt
DESCRIPTION:
URL:https://www.niederwerth.de/veranstaltung/weihnachtsmarkt-2/
END:VEVENT
BEGIN:VEVENT
DTSTART;VALUE=DATE:20261128
DTEND;VALUE=DATE:20261129
DTSTAMP:20260420T051828
CREATED:20251217T103441Z
LAST-MODIFIED:20251217T103441Z
UID:3244-1795824000-1795910399@www.niederwerth.de
SUMMARY:Weihnachtsfeier Karnevalsverein
DESCRIPTION:
URL:https://www.niederwerth.de/veranstaltung/weihnachtsfeier-karnevalsverein/
END:VEVENT
END:VCALENDAR