BEGIN:VCALENDAR
VERSION:2.0
PRODID:-//Niederwerth.de - ECPv6.15.20//NONSGML v1.0//EN
CALSCALE:GREGORIAN
METHOD:PUBLISH
X-WR-CALNAME:Niederwerth.de
X-ORIGINAL-URL:https://www.niederwerth.de
X-WR-CALDESC:Veranstaltungen für Niederwerth.de
REFRESH-INTERVAL;VALUE=DURATION:PT1H
X-Robots-Tag:noindex
X-PUBLISHED-TTL:PT1H
BEGIN:VTIMEZONE
TZID:Europe/Paris
BEGIN:DAYLIGHT
TZOFFSETFROM:+0100
TZOFFSETTO:+0200
TZNAME:CEST
DTSTART:20250330T010000
END:DAYLIGHT
BEGIN:STANDARD
TZOFFSETFROM:+0200
TZOFFSETTO:+0100
TZNAME:CET
DTSTART:20251026T010000
END:STANDARD
BEGIN:DAYLIGHT
TZOFFSETFROM:+0100
TZOFFSETTO:+0200
TZNAME:CEST
DTSTART:20260329T010000
END:DAYLIGHT
BEGIN:STANDARD
TZOFFSETFROM:+0200
TZOFFSETTO:+0100
TZNAME:CET
DTSTART:20261025T010000
END:STANDARD
BEGIN:DAYLIGHT
TZOFFSETFROM:+0100
TZOFFSETTO:+0200
TZNAME:CEST
DTSTART:20270328T010000
END:DAYLIGHT
BEGIN:STANDARD
TZOFFSETFROM:+0200
TZOFFSETTO:+0100
TZNAME:CET
DTSTART:20271031T010000
END:STANDARD
END:VTIMEZONE
BEGIN:VEVENT
DTSTART;VALUE=DATE:20260410
DTEND;VALUE=DATE:20260411
DTSTAMP:20260420T065638
CREATED:20251217T101736Z
LAST-MODIFIED:20251217T101736Z
UID:3184-1775779200-1775865599@www.niederwerth.de
SUMMARY:Mitgliederversammlung Kirmesgesellschaft
DESCRIPTION:
URL:https://www.niederwerth.de/veranstaltung/mitgliederversammlung-kirmesgesellschaft-3/
END:VEVENT
BEGIN:VEVENT
DTSTART;VALUE=DATE:20260404
DTEND;VALUE=DATE:20260405
DTSTAMP:20260420T065638
CREATED:20251217T101709Z
LAST-MODIFIED:20251217T101709Z
UID:3182-1775260800-1775347199@www.niederwerth.de
SUMMARY:Ostereier schießen
DESCRIPTION:
URL:https://www.niederwerth.de/veranstaltung/ostereier-schiessen/
ORGANIZER;CN="St. Sebastianus Sch%C3%BCtzenbruderschaft Niederwerth 1859 e.V.":MAILTO:werther_schuetzen@aol.de
END:VEVENT
BEGIN:VEVENT
DTSTART;VALUE=DATE:20260328
DTEND;VALUE=DATE:20260329
DTSTAMP:20260420T065638
CREATED:20251217T101644Z
LAST-MODIFIED:20251217T101644Z
UID:3180-1774656000-1774742399@www.niederwerth.de
SUMMARY:Konzert
DESCRIPTION:
URL:https://www.niederwerth.de/veranstaltung/konzert/
END:VEVENT
BEGIN:VEVENT
DTSTART;VALUE=DATE:20260322
DTEND;VALUE=DATE:20260323
DTSTAMP:20260420T065638
CREATED:20251217T101618Z
LAST-MODIFIED:20251217T101618Z
UID:3178-1774137600-1774223999@www.niederwerth.de
SUMMARY:Landtagswahl
DESCRIPTION:
URL:https://www.niederwerth.de/veranstaltung/landtagswahl/
END:VEVENT
BEGIN:VEVENT
DTSTART;VALUE=DATE:20260320
DTEND;VALUE=DATE:20260321
DTSTAMP:20260420T065638
CREATED:20251217T101555Z
LAST-MODIFIED:20251217T101555Z
UID:3176-1773964800-1774051199@www.niederwerth.de
SUMMARY:Jahreshauptversammlung Karnevalsverein
DESCRIPTION:
URL:https://www.niederwerth.de/veranstaltung/jahreshauptversammlung-karnevalsverein-3/
END:VEVENT
BEGIN:VEVENT
DTSTART;VALUE=DATE:20260320
DTEND;VALUE=DATE:20260321
DTSTAMP:20260420T065638
CREATED:20251217T101524Z
LAST-MODIFIED:20251217T101524Z
UID:3174-1773964800-1774051199@www.niederwerth.de
SUMMARY:Jahreshauptversammlung Freundeskreis
DESCRIPTION:
URL:https://www.niederwerth.de/veranstaltung/jahreshauptversammlung-freundeskreis-3/
END:VEVENT
BEGIN:VEVENT
DTSTART;VALUE=DATE:20260317
DTEND;VALUE=DATE:20260318
DTSTAMP:20260420T065638
CREATED:20251217T101445Z
LAST-MODIFIED:20251217T101445Z
UID:3172-1773705600-1773791999@www.niederwerth.de
SUMMARY:Gemeinderatsitzung
DESCRIPTION:
URL:https://www.niederwerth.de/veranstaltung/gemeinderatsitzung-9/
ORGANIZER;CN="Ortsgemeinde Niederwerth":MAILTO:info@niederwerth.de
END:VEVENT
BEGIN:VEVENT
DTSTART;VALUE=DATE:20260317
DTEND;VALUE=DATE:20260318
DTSTAMP:20260420T065638
CREATED:20251217T101414Z
LAST-MODIFIED:20251217T101414Z
UID:3170-1773705600-1773791999@www.niederwerth.de
SUMMARY:Blutspende
DESCRIPTION:
URL:https://www.niederwerth.de/veranstaltung/blutspende-4/
ORGANIZER;CN="DRK Ortsverein Niederwerth e.V.":MAILTO:info@drk-niederwerth.de
END:VEVENT
BEGIN:VEVENT
DTSTART;VALUE=DATE:20260315
DTEND;VALUE=DATE:20260316
DTSTAMP:20260420T065638
CREATED:20251217T101348Z
LAST-MODIFIED:20251217T101348Z
UID:3168-1773532800-1773619199@www.niederwerth.de
SUMMARY:Frühlingsfest
DESCRIPTION:
URL:https://www.niederwerth.de/veranstaltung/fruehlingsfest/
END:VEVENT
BEGIN:VEVENT
DTSTART;VALUE=DATE:20260312
DTEND;VALUE=DATE:20260313
DTSTAMP:20260420T065638
CREATED:20251217T101321Z
LAST-MODIFIED:20251217T101321Z
UID:3166-1773273600-1773359999@www.niederwerth.de
SUMMARY:Jahreshauptversammlung Förderverein Musikverein
DESCRIPTION:
URL:https://www.niederwerth.de/veranstaltung/jahreshauptversammlung-foerderverein-musikverein-2/
ORGANIZER;CN="F%C3%B6rderverein Musikverein Niederwerth":MAILTO:vorstand@foerderverein-mvn.de
END:VEVENT
BEGIN:VEVENT
DTSTART;VALUE=DATE:20260307
DTEND;VALUE=DATE:20260308
DTSTAMP:20260420T065638
CREATED:20251217T101254Z
LAST-MODIFIED:20251217T101254Z
UID:3164-1772841600-1772927999@www.niederwerth.de
SUMMARY:Jahreshauptversammlung Feuerwehr
DESCRIPTION:
URL:https://www.niederwerth.de/veranstaltung/jahreshauptversammlung-feuerwehr-3/
ORGANIZER;CN="Feuerwehr Niederwerth":MAILTO:info-lz-niederwerth@feuerwehr-vg-vallendar.de
END:VEVENT
BEGIN:VEVENT
DTSTART;VALUE=DATE:20260306
DTEND;VALUE=DATE:20260307
DTSTAMP:20260420T065638
CREATED:20251217T101231Z
LAST-MODIFIED:20251217T101231Z
UID:3162-1772755200-1772841599@www.niederwerth.de
SUMMARY:Jahreshauptversammlung SVN
DESCRIPTION:
URL:https://www.niederwerth.de/veranstaltung/jahreshauptversammlung-svn/
ORGANIZER;CN="Sportverein 1936 Niederwerth e.V.":MAILTO:vorsitzender@sv-niederwerth.de
END:VEVENT
BEGIN:VEVENT
DTSTART;VALUE=DATE:20260228
DTEND;VALUE=DATE:20260301
DTSTAMP:20260420T065638
CREATED:20251217T101159Z
LAST-MODIFIED:20251217T101159Z
UID:3160-1772236800-1772323199@www.niederwerth.de
SUMMARY:Winterwanderung Schützenverein
DESCRIPTION:
URL:https://www.niederwerth.de/veranstaltung/winterwanderung-schuetzenverein-2/
ORGANIZER;CN="St. Sebastianus Sch%C3%BCtzenbruderschaft Niederwerth 1859 e.V.":MAILTO:werther_schuetzen@aol.de
END:VEVENT
BEGIN:VEVENT
DTSTART;VALUE=DATE:20260215
DTEND;VALUE=DATE:20260216
DTSTAMP:20260420T065638
CREATED:20251217T100759Z
LAST-MODIFIED:20251217T100759Z
UID:3156-1771113600-1771199999@www.niederwerth.de
SUMMARY:Karneval Sonntag
DESCRIPTION:
URL:https://www.niederwerth.de/veranstaltung/karneval-sonntag/
END:VEVENT
BEGIN:VEVENT
DTSTART;VALUE=DATE:20260210
DTEND;VALUE=DATE:20260211
DTSTAMP:20260420T065638
CREATED:20251217T100720Z
LAST-MODIFIED:20251217T100720Z
UID:3154-1770681600-1770767999@www.niederwerth.de
SUMMARY:Gemeinderatsitzung
DESCRIPTION:
URL:https://www.niederwerth.de/veranstaltung/gemeinderatsitzung-8/
ORGANIZER;CN="Ortsgemeinde Niederwerth":MAILTO:info@niederwerth.de
END:VEVENT
BEGIN:VEVENT
DTSTART;VALUE=DATE:20260207
DTEND;VALUE=DATE:20260208
DTSTAMP:20260420T065638
CREATED:20251217T100644Z
LAST-MODIFIED:20251217T100832Z
UID:3152-1770422400-1770508799@www.niederwerth.de
SUMMARY:8. Sitzung Karnevalsverein
DESCRIPTION:
URL:https://www.niederwerth.de/veranstaltung/8-sitzung-karnevalsverein-2/
END:VEVENT
BEGIN:VEVENT
DTSTART;VALUE=DATE:20260206
DTEND;VALUE=DATE:20260207
DTSTAMP:20260420T065638
CREATED:20251217T100614Z
LAST-MODIFIED:20251217T100848Z
UID:3150-1770336000-1770422399@www.niederwerth.de
SUMMARY:7. Sitzung Karnevalsverein
DESCRIPTION:
URL:https://www.niederwerth.de/veranstaltung/7-sitzung-karnevalsverein-2/
END:VEVENT
BEGIN:VEVENT
DTSTART;VALUE=DATE:20260131
DTEND;VALUE=DATE:20260201
DTSTAMP:20260420T065638
CREATED:20251217T100546Z
LAST-MODIFIED:20251217T100903Z
UID:3148-1769817600-1769903999@www.niederwerth.de
SUMMARY:6. Sitzung Karnevalsverein
DESCRIPTION:
URL:https://www.niederwerth.de/veranstaltung/6-sitzung-karnevalsverein-2/
END:VEVENT
BEGIN:VEVENT
DTSTART;VALUE=DATE:20260130
DTEND;VALUE=DATE:20260131
DTSTAMP:20260420T065638
CREATED:20251217T100518Z
LAST-MODIFIED:20251217T100920Z
UID:3146-1769731200-1769817599@www.niederwerth.de
SUMMARY:5. Sitzung Karnevalsverein
DESCRIPTION:
URL:https://www.niederwerth.de/veranstaltung/5-sitzung-karnevalsverein-2/
END:VEVENT
BEGIN:VEVENT
DTSTART;VALUE=DATE:20260129
DTEND;VALUE=DATE:20260130
DTSTAMP:20260420T065638
CREATED:20251217T100445Z
LAST-MODIFIED:20251217T100445Z
UID:3144-1769644800-1769731199@www.niederwerth.de
SUMMARY:Jahreshauptversammlung Musikverein
DESCRIPTION:
URL:https://www.niederwerth.de/veranstaltung/jahreshauptversammlung-musikverein-3/
END:VEVENT
BEGIN:VEVENT
DTSTART;VALUE=DATE:20260124
DTEND;VALUE=DATE:20260125
DTSTAMP:20260420T065638
CREATED:20251217T101007Z
LAST-MODIFIED:20251217T101007Z
UID:3158-1769212800-1769299199@www.niederwerth.de
SUMMARY:4. Sitzung Karnevalsverein
DESCRIPTION:
URL:https://www.niederwerth.de/veranstaltung/4-sitzung-karnevalsverein-3/
END:VEVENT
BEGIN:VEVENT
DTSTART;VALUE=DATE:20260123
DTEND;VALUE=DATE:20260124
DTSTAMP:20260420T065638
CREATED:20251217T100306Z
LAST-MODIFIED:20251217T101047Z
UID:3140-1769126400-1769212799@www.niederwerth.de
SUMMARY:3. Sitzung Karnevalsverein
DESCRIPTION:
URL:https://www.niederwerth.de/veranstaltung/3-sitzung-karnevalsverein-2/
END:VEVENT
BEGIN:VEVENT
DTSTART;VALUE=DATE:20260117
DTEND;VALUE=DATE:20260118
DTSTAMP:20260420T065638
CREATED:20251217T100243Z
LAST-MODIFIED:20251217T101104Z
UID:3138-1768608000-1768694399@www.niederwerth.de
SUMMARY:2. Sitzung Karnevalsverein
DESCRIPTION:
URL:https://www.niederwerth.de/veranstaltung/2-sitzung-karnevalsverein-2/
END:VEVENT
BEGIN:VEVENT
DTSTART;VALUE=DATE:20260116
DTEND;VALUE=DATE:20260117
DTSTAMP:20260420T065638
CREATED:20251217T100221Z
LAST-MODIFIED:20251217T100221Z
UID:3136-1768521600-1768607999@www.niederwerth.de
SUMMARY:1. Sitzung Karnevalsverein
DESCRIPTION:
URL:https://www.niederwerth.de/veranstaltung/1-sitzung-karnevalsverein/
END:VEVENT
BEGIN:VEVENT
DTSTART;VALUE=DATE:20260114
DTEND;VALUE=DATE:20260115
DTSTAMP:20260420T065638
CREATED:20251217T100148Z
LAST-MODIFIED:20251217T100148Z
UID:3134-1768348800-1768435199@www.niederwerth.de
SUMMARY:Jahreshauptversammlung DRK
DESCRIPTION:
URL:https://www.niederwerth.de/veranstaltung/jahreshauptversammlung-drk/
ORGANIZER;CN="DRK Ortsverein Niederwerth e.V.":MAILTO:info@drk-niederwerth.de
END:VEVENT
BEGIN:VEVENT
DTSTART;VALUE=DATE:20260110
DTEND;VALUE=DATE:20260111
DTSTAMP:20260420T065638
CREATED:20251217T100123Z
LAST-MODIFIED:20251217T100123Z
UID:3132-1768003200-1768089599@www.niederwerth.de
SUMMARY:Patronatsfest
DESCRIPTION:
URL:https://www.niederwerth.de/veranstaltung/patronatsfest-2/
ORGANIZER;CN="St. Sebastianus Sch%C3%BCtzenbruderschaft Niederwerth 1859 e.V.":MAILTO:werther_schuetzen@aol.de
END:VEVENT
BEGIN:VEVENT
DTSTART;VALUE=DATE:20260110
DTEND;VALUE=DATE:20260111
DTSTAMP:20260420T065638
CREATED:20251217T100037Z
LAST-MODIFIED:20251217T100037Z
UID:3129-1768003200-1768089599@www.niederwerth.de
SUMMARY:Winterwanderung Musikverein
DESCRIPTION:
URL:https://www.niederwerth.de/veranstaltung/winterwanderung-musikverein/
END:VEVENT
BEGIN:VEVENT
DTSTART;VALUE=DATE:20260107
DTEND;VALUE=DATE:20260108
DTSTAMP:20260420T065638
CREATED:20251217T095957Z
LAST-MODIFIED:20251217T095957Z
UID:3127-1767744000-1767830399@www.niederwerth.de
SUMMARY:Jahreshauptversammlung Förderverein Kindergarten
DESCRIPTION:
URL:https://www.niederwerth.de/veranstaltung/jahreshauptversammlung-foerderverein-kindergarten/
ORGANIZER;CN="F%C3%B6rderverein Kindergarten e.V.":MAILTO:foerdervereinkiga.niederwerth@web.de
END:VEVENT
BEGIN:VEVENT
DTSTART;VALUE=DATE:20260106
DTEND;VALUE=DATE:20260107
DTSTAMP:20260420T065638
CREATED:20251217T095916Z
LAST-MODIFIED:20251217T095916Z
UID:3125-1767657600-1767743999@www.niederwerth.de
SUMMARY:Blutspende
DESCRIPTION:
URL:https://www.niederwerth.de/veranstaltung/blutspende-3/
ORGANIZER;CN="DRK Ortsverein Niederwerth e.V.":MAILTO:info@drk-niederwerth.de
END:VEVENT
BEGIN:VEVENT
DTSTART;VALUE=DATE:20260103
DTEND;VALUE=DATE:20260104
DTSTAMP:20260420T065638
CREATED:20251217T095844Z
LAST-MODIFIED:20251217T100054Z
UID:3123-1767398400-1767484799@www.niederwerth.de
SUMMARY:Winterwanderung Kirmesgesellschaft
DESCRIPTION:
URL:https://www.niederwerth.de/veranstaltung/winterwanderung-2/
END:VEVENT
END:VCALENDAR