BEGIN:VCALENDAR
VERSION:2.0
PRODID:-//Niederwerth.de - ECPv6.15.20//NONSGML v1.0//EN
CALSCALE:GREGORIAN
METHOD:PUBLISH
X-ORIGINAL-URL:https://www.niederwerth.de
X-WR-CALDESC:Veranstaltungen für Niederwerth.de
REFRESH-INTERVAL;VALUE=DURATION:PT1H
X-Robots-Tag:noindex
X-PUBLISHED-TTL:PT1H
BEGIN:VTIMEZONE
TZID:Europe/Paris
BEGIN:DAYLIGHT
TZOFFSETFROM:+0100
TZOFFSETTO:+0200
TZNAME:CEST
DTSTART:20260329T010000
END:DAYLIGHT
BEGIN:STANDARD
TZOFFSETFROM:+0200
TZOFFSETTO:+0100
TZNAME:CET
DTSTART:20261025T010000
END:STANDARD
BEGIN:DAYLIGHT
TZOFFSETFROM:+0100
TZOFFSETTO:+0200
TZNAME:CEST
DTSTART:20270328T010000
END:DAYLIGHT
BEGIN:STANDARD
TZOFFSETFROM:+0200
TZOFFSETTO:+0100
TZNAME:CET
DTSTART:20271031T010000
END:STANDARD
BEGIN:DAYLIGHT
TZOFFSETFROM:+0100
TZOFFSETTO:+0200
TZNAME:CEST
DTSTART:20280326T010000
END:DAYLIGHT
BEGIN:STANDARD
TZOFFSETFROM:+0200
TZOFFSETTO:+0100
TZNAME:CET
DTSTART:20281029T010000
END:STANDARD
END:VTIMEZONE
BEGIN:VEVENT
DTSTART;VALUE=DATE:20270108
DTEND;VALUE=DATE:20270109
DTSTAMP:20260420T125118
CREATED:20251217T103805Z
LAST-MODIFIED:20251217T103805Z
UID:3259-1799366400-1799452799@www.niederwerth.de
SUMMARY:1. Sitzung Karnevalsverein
DESCRIPTION:
URL:https://www.niederwerth.de/veranstaltung/1-sitzung-karnevalsverein-2/
END:VEVENT
BEGIN:VEVENT
DTSTART;VALUE=DATE:20270109
DTEND;VALUE=DATE:20270110
DTSTAMP:20260420T125118
CREATED:20251217T103830Z
LAST-MODIFIED:20251217T103830Z
UID:3261-1799452800-1799539199@www.niederwerth.de
SUMMARY:2. Sitzung Karnevalsverein
DESCRIPTION:
URL:https://www.niederwerth.de/veranstaltung/2-sitzung-karnevalsverein-3/
END:VEVENT
BEGIN:VEVENT
DTSTART;VALUE=DATE:20270109
DTEND;VALUE=DATE:20270110
DTSTAMP:20260420T125118
CREATED:20251217T103905Z
LAST-MODIFIED:20251217T103905Z
UID:3263-1799452800-1799539199@www.niederwerth.de
SUMMARY:Winterwanderung Kirmesgesellschaft
DESCRIPTION:
URL:https://www.niederwerth.de/veranstaltung/winterwanderung-kirmesgesellschaft/
END:VEVENT
BEGIN:VEVENT
DTSTART;VALUE=DATE:20270115
DTEND;VALUE=DATE:20270116
DTSTAMP:20260420T125118
CREATED:20251217T103928Z
LAST-MODIFIED:20251217T103928Z
UID:3265-1799971200-1800057599@www.niederwerth.de
SUMMARY:3. Sitzung Karnevalsverein
DESCRIPTION:
URL:https://www.niederwerth.de/veranstaltung/3-sitzung-karnevalsverein-3/
END:VEVENT
BEGIN:VEVENT
DTSTART;VALUE=DATE:20270116
DTEND;VALUE=DATE:20270117
DTSTAMP:20260420T125118
CREATED:20251217T103949Z
LAST-MODIFIED:20251217T103949Z
UID:3267-1800057600-1800143999@www.niederwerth.de
SUMMARY:4. Sitzung Karnevalsverein
DESCRIPTION:
URL:https://www.niederwerth.de/veranstaltung/4-sitzung-karnevalsverein-4/
END:VEVENT
BEGIN:VEVENT
DTSTART;VALUE=DATE:20270122
DTEND;VALUE=DATE:20270123
DTSTAMP:20260420T125118
CREATED:20251217T104010Z
LAST-MODIFIED:20251217T104010Z
UID:3269-1800576000-1800662399@www.niederwerth.de
SUMMARY:5. Sitzung Karnevalsverein
DESCRIPTION:
URL:https://www.niederwerth.de/veranstaltung/5-sitzung-karnevalsverein-3/
END:VEVENT
BEGIN:VEVENT
DTSTART;VALUE=DATE:20270123
DTEND;VALUE=DATE:20270124
DTSTAMP:20260420T125118
CREATED:20251217T104035Z
LAST-MODIFIED:20251217T104035Z
UID:3271-1800662400-1800748799@www.niederwerth.de
SUMMARY:6. Sitzung Karnevalsverein
DESCRIPTION:
URL:https://www.niederwerth.de/veranstaltung/6-sitzung-karnevalsverein-3/
END:VEVENT
BEGIN:VEVENT
DTSTART;VALUE=DATE:20270129
DTEND;VALUE=DATE:20270130
DTSTAMP:20260420T125118
CREATED:20251217T104059Z
LAST-MODIFIED:20251217T104059Z
UID:3273-1801180800-1801267199@www.niederwerth.de
SUMMARY:7. Sitzung Karnevalsverein
DESCRIPTION:
URL:https://www.niederwerth.de/veranstaltung/7-sitzung-karnevalsverein-3/
END:VEVENT
BEGIN:VEVENT
DTSTART;VALUE=DATE:20270130
DTEND;VALUE=DATE:20270131
DTSTAMP:20260420T125118
CREATED:20251217T104123Z
LAST-MODIFIED:20251217T104123Z
UID:3275-1801267200-1801353599@www.niederwerth.de
SUMMARY:8. Sitzung Karnevalsverein
DESCRIPTION:
URL:https://www.niederwerth.de/veranstaltung/8-sitzung-karnevalsverein-3/
END:VEVENT
BEGIN:VEVENT
DTSTART;VALUE=DATE:20270207
DTEND;VALUE=DATE:20270208
DTSTAMP:20260420T125118
CREATED:20251217T104149Z
LAST-MODIFIED:20251217T104149Z
UID:3277-1801958400-1802044799@www.niederwerth.de
SUMMARY:Karneval Sonntag
DESCRIPTION:
URL:https://www.niederwerth.de/veranstaltung/karneval-sonntag-2/
END:VEVENT
END:VCALENDAR